BEGIN:VCALENDAR
VERSION:2.0
PRODID:-//TSV Zaisersweiher e.V. - ECPv6.15.18//NONSGML v1.0//EN
CALSCALE:GREGORIAN
METHOD:PUBLISH
X-ORIGINAL-URL:https://tsv-zaisersweiher.de
X-WR-CALDESC:Veranstaltungen für TSV Zaisersweiher e.V.
REFRESH-INTERVAL;VALUE=DURATION:PT1H
X-Robots-Tag:noindex
X-PUBLISHED-TTL:PT1H
BEGIN:VTIMEZONE
TZID:Europe/Berlin
BEGIN:DAYLIGHT
TZOFFSETFROM:+0100
TZOFFSETTO:+0200
TZNAME:CEST
DTSTART:20250330T010000
END:DAYLIGHT
BEGIN:STANDARD
TZOFFSETFROM:+0200
TZOFFSETTO:+0100
TZNAME:CET
DTSTART:20251026T010000
END:STANDARD
BEGIN:DAYLIGHT
TZOFFSETFROM:+0100
TZOFFSETTO:+0200
TZNAME:CEST
DTSTART:20260329T010000
END:DAYLIGHT
BEGIN:STANDARD
TZOFFSETFROM:+0200
TZOFFSETTO:+0100
TZNAME:CET
DTSTART:20261025T010000
END:STANDARD
BEGIN:DAYLIGHT
TZOFFSETFROM:+0100
TZOFFSETTO:+0200
TZNAME:CEST
DTSTART:20270328T010000
END:DAYLIGHT
BEGIN:STANDARD
TZOFFSETFROM:+0200
TZOFFSETTO:+0100
TZNAME:CET
DTSTART:20271031T010000
END:STANDARD
END:VTIMEZONE
BEGIN:VEVENT
DTSTART;TZID=Europe/Berlin:20260815T180000
DTEND;TZID=Europe/Berlin:20260815T180000
DTSTAMP:20260422T154059
CREATED:20260418T102134Z
LAST-MODIFIED:20260419T114714Z
UID:4476-1786816800-1786816800@tsv-zaisersweiher.de
SUMMARY:Folk on Farm 2026
DESCRIPTION:Bereits zum sechsten Mal lädt der TSV Zaisersweiher zum „Folk on Farm“-Open-Air ein – und verwandelt den Schülenswaldhof der Familie Förster in einen Ort voller Klang\, Lebensfreude und irischem Flair. Zwischen Wiesen und Scheunen erklingen mitreißende Melodien von der grünen Insel\, während Folk-Fans unter freiem Himmel feiern\, tanzen und die besondere Stimmung genießen.
URL:https://tsv-zaisersweiher.de/termine/folk-on-farm-2026/
CATEGORIES:Musik
ATTACH;FMTTYPE=image/jpeg:https://tsv-zaisersweiher.de/wp-content/uploads/2026/04/FoF_2026_lang_01-e1776507683526.jpg
END:VEVENT
END:VCALENDAR